BEGIN:VCALENDAR
VERSION:2.0
PRODID:-//Lawrie &amp; Symington - ECPv6.15.20//NONSGML v1.0//EN
CALSCALE:GREGORIAN
METHOD:PUBLISH
X-WR-CALNAME:Lawrie &amp; Symington
X-ORIGINAL-URL:https://lawrieandsymington.com
X-WR-CALDESC:Sales for Lawrie &amp; Symington
REFRESH-INTERVAL;VALUE=DURATION:PT1H
X-Robots-Tag:noindex
X-PUBLISHED-TTL:PT1H
BEGIN:VTIMEZONE
TZID:Europe/London
BEGIN:DAYLIGHT
TZOFFSETFROM:+0000
TZOFFSETTO:+0100
TZNAME:BST
DTSTART:20270328T010000
END:DAYLIGHT
BEGIN:STANDARD
TZOFFSETFROM:+0100
TZOFFSETTO:+0000
TZNAME:GMT
DTSTART:20271031T010000
END:STANDARD
BEGIN:DAYLIGHT
TZOFFSETFROM:+0000
TZOFFSETTO:+0100
TZNAME:BST
DTSTART:20280326T010000
END:DAYLIGHT
BEGIN:STANDARD
TZOFFSETFROM:+0100
TZOFFSETTO:+0000
TZNAME:GMT
DTSTART:20281029T010000
END:STANDARD
BEGIN:DAYLIGHT
TZOFFSETFROM:+0000
TZOFFSETTO:+0100
TZNAME:BST
DTSTART:20290325T010000
END:DAYLIGHT
BEGIN:STANDARD
TZOFFSETFROM:+0100
TZOFFSETTO:+0000
TZNAME:GMT
DTSTART:20291028T010000
END:STANDARD
END:VTIMEZONE
BEGIN:VEVENT
DTSTART;TZID=Europe/London:20280901T090000
DTEND;TZID=Europe/London:20280901T170000
DTSTAMP:20260422T151132
CREATED:20260115T160229Z
LAST-MODIFIED:20260115T160229Z
UID:10004626-1851411600-1851440400@lawrieandsymington.com
SUMMARY:Show & Sale Castlemilk Moorit
DESCRIPTION:
URL:https://lawrieandsymington.com/sale/show-sale-castlemilk-moorit/2028-09-01/
LOCATION:Lanark Mart\, Lanark Agricultural Centre\, Hyndford Road\, Lanark\, ML11 9AX\, United Kingdom
CATEGORIES:Annual Sale,Pedigree Sheep,Sheep
ATTACH;FMTTYPE=image/png:https://lawrieandsymington.com/wp-content/uploads/2026/01/Castlemilk-Moorit.png
END:VEVENT
BEGIN:VEVENT
DTSTART;TZID=Europe/London:20280901T090000
DTEND;TZID=Europe/London:20280901T170000
DTSTAMP:20260422T151132
CREATED:20260115T160323Z
LAST-MODIFIED:20260115T160323Z
UID:10004631-1851411600-1851440400@lawrieandsymington.com
SUMMARY:Show & Sale Dartmoor Sheep
DESCRIPTION:
URL:https://lawrieandsymington.com/sale/show-sale-dartmoor-sheep/2028-09-01/
LOCATION:Lanark Mart\, Lanark Agricultural Centre\, Hyndford Road\, Lanark\, ML11 9AX\, United Kingdom
CATEGORIES:Annual Sale,Pedigree Sheep,Sheep
ATTACH;FMTTYPE=image/png:https://lawrieandsymington.com/wp-content/uploads/2026/01/Dartmoor.png
END:VEVENT
BEGIN:VEVENT
DTSTART;TZID=Europe/London:20280901T090000
DTEND;TZID=Europe/London:20280901T170000
DTSTAMP:20260422T151132
CREATED:20260115T160420Z
LAST-MODIFIED:20260115T160420Z
UID:10004636-1851411600-1851440400@lawrieandsymington.com
SUMMARY:Show & Sale Hebridean Sheep
DESCRIPTION:
URL:https://lawrieandsymington.com/sale/show-sale-hebridean-sheep/2028-09-01/
LOCATION:Lanark Mart\, Lanark Agricultural Centre\, Hyndford Road\, Lanark\, ML11 9AX\, United Kingdom
CATEGORIES:Annual Sale,Pedigree Sheep,Sheep
ATTACH;FMTTYPE=image/png:https://lawrieandsymington.com/wp-content/uploads/2026/01/Hebridean.png
END:VEVENT
BEGIN:VEVENT
DTSTART;TZID=Europe/London:20280901T090000
DTEND;TZID=Europe/London:20280901T170000
DTSTAMP:20260422T151132
CREATED:20260115T160518Z
LAST-MODIFIED:20260115T160518Z
UID:10004641-1851411600-1851440400@lawrieandsymington.com
SUMMARY:Show & Sale Shetland Sheep
DESCRIPTION:
URL:https://lawrieandsymington.com/sale/show-sale-shetland-sheep/2028-09-01/
LOCATION:Lanark Mart\, Lanark Agricultural Centre\, Hyndford Road\, Lanark\, ML11 9AX\, United Kingdom
CATEGORIES:Annual Sale,Pedigree Sheep,Sheep
ATTACH;FMTTYPE=image/png:https://lawrieandsymington.com/wp-content/uploads/2026/01/Shetland-Sheep.png
END:VEVENT
BEGIN:VEVENT
DTSTART;TZID=Europe/London:20280901T100000
DTEND;TZID=Europe/London:20280901T170000
DTSTAMP:20260422T151132
CREATED:20260115T155941Z
LAST-MODIFIED:20260115T155941Z
UID:10004621-1851415200-1851440400@lawrieandsymington.com
SUMMARY:Rare & Minority Breeds Sale
DESCRIPTION:
URL:https://lawrieandsymington.com/sale/rare-minority-breeds-sale/2028-09-01/
LOCATION:Lanark Mart\, Lanark Agricultural Centre\, Hyndford Road\, Lanark\, ML11 9AX\, United Kingdom
CATEGORIES:Annual Sale,Rare Breeds,Sheep
ATTACH;FMTTYPE=image/png:https://lawrieandsymington.com/wp-content/uploads/2026/01/Rare-Breed.png
END:VEVENT
BEGIN:VEVENT
DTSTART;TZID=Europe/London:20280908T100000
DTEND;TZID=Europe/London:20280908T170000
DTSTAMP:20260422T151132
CREATED:20260115T163345Z
LAST-MODIFIED:20260115T163435Z
UID:10004656-1852020000-1852045200@lawrieandsymington.com
SUMMARY:Kelso Ram Sales
DESCRIPTION:at Border Union Showground
URL:https://lawrieandsymington.com/sale/kelso-ram-sales/2028-09-08/
LOCATION:Kelso
CATEGORIES:Annual Sale,Pedigree Sheep,Sheep
ATTACH;FMTTYPE=image/png:https://lawrieandsymington.com/wp-content/uploads/2026/01/Kelso.png
END:VEVENT
BEGIN:VEVENT
DTSTART;TZID=Europe/London:20280909T103000
DTEND;TZID=Europe/London:20280909T140000
DTSTAMP:20260422T151132
CREATED:20260115T164351Z
LAST-MODIFIED:20260115T164449Z
UID:10004661-1852108200-1852120800@lawrieandsymington.com
SUMMARY:Show & Sale of Valais Blacknose Sheep
DESCRIPTION:
URL:https://lawrieandsymington.com/sale/show-sale-of-valais-blacknose-sheep/2028-09-09/
LOCATION:Lanark Mart\, Lanark Agricultural Centre\, Hyndford Road\, Lanark\, ML11 9AX\, United Kingdom
CATEGORIES:Annual Sale,Pedigree Sheep,Sheep
ATTACH;FMTTYPE=image/png:https://lawrieandsymington.com/wp-content/uploads/2026/01/Valais.png
END:VEVENT
BEGIN:VEVENT
DTSTART;TZID=Europe/London:20280909T103000
DTEND;TZID=Europe/London:20280909T140000
DTSTAMP:20260422T151132
CREATED:20260115T164755Z
LAST-MODIFIED:20260115T164913Z
UID:10004666-1852108200-1852120800@lawrieandsymington.com
SUMMARY:Show & Sale of Kerry Hill Sheep
DESCRIPTION:
URL:https://lawrieandsymington.com/sale/show-sale-of-kerry-hill-sheep/2028-09-09/
LOCATION:Lanark Mart\, Lanark Agricultural Centre\, Hyndford Road\, Lanark\, ML11 9AX\, United Kingdom
CATEGORIES:Annual Sale,Pedigree Sheep,Sheep
ATTACH;FMTTYPE=image/png:https://lawrieandsymington.com/wp-content/uploads/2026/01/Kerryhill-1.png
END:VEVENT
BEGIN:VEVENT
DTSTART;TZID=Europe/London:20280913T103000
DTEND;TZID=Europe/London:20280913T150000
DTSTAMP:20260422T151132
CREATED:20260115T161238Z
LAST-MODIFIED:20260119T141457Z
UID:10004646-1852453800-1852470000@lawrieandsymington.com
SUMMARY:Blackface Ewe Lambs
DESCRIPTION:
URL:https://lawrieandsymington.com/sale/blackface-ewe-lambs/2028-09-13/
LOCATION:Lanark Mart\, Lanark Agricultural Centre\, Hyndford Road\, Lanark\, ML11 9AX\, United Kingdom
CATEGORIES:Annual Sale,Breeding Sheep,Sheep
ATTACH;FMTTYPE=image/png:https://lawrieandsymington.com/wp-content/uploads/2026/01/BF-Ewe-Lambs.png
END:VEVENT
BEGIN:VEVENT
DTSTART;TZID=Europe/London:20280914T170000
DTEND;TZID=Europe/London:20280914T190000
DTSTAMP:20260422T151132
CREATED:20260115T162739Z
LAST-MODIFIED:20260115T162739Z
UID:10004651-1852563600-1852570800@lawrieandsymington.com
SUMMARY:On-Farm Sale of Suffolk & Chevease Easycare Rams & Shearling Rams
DESCRIPTION:Held at Blackhaugh Farm\, Clovenfords\, Galashiels – On behalf Mr A Elliot
URL:https://lawrieandsymington.com/sale/on-farm-sale-of-suffolk-chevease-easycare-rams-shearling-rams/2028-09-14/
LOCATION:Lanark Mart\, Lanark Agricultural Centre\, Hyndford Road\, Lanark\, ML11 9AX\, United Kingdom
CATEGORIES:Annual Sale,Pedigree Sheep,Sheep
ATTACH;FMTTYPE=image/png:https://lawrieandsymington.com/wp-content/uploads/2026/01/Blackhaugh.png
END:VEVENT
BEGIN:VEVENT
DTSTART;TZID=Europe/London:20280920T120000
DTEND;TZID=Europe/London:20280920T150000
DTSTAMP:20260422T151132
CREATED:20260116T093859Z
LAST-MODIFIED:20260116T110743Z
UID:10004671-1853064000-1853074800@lawrieandsymington.com
SUMMARY:Show & Sale of Border Leicester Sheep
DESCRIPTION:
URL:https://lawrieandsymington.com/sale/show-sale-of-border-leicester-sheep/2028-09-20/
CATEGORIES:Annual Sale,Pedigree Sheep,Sheep
ATTACH;FMTTYPE=image/png:https://lawrieandsymington.com/wp-content/uploads/2026/01/Border-Leic.png
END:VEVENT
END:VCALENDAR