BEGIN:VCALENDAR
VERSION:2.0
PRODID:-//Lawrie &amp; Symington - ECPv6.15.20//NONSGML v1.0//EN
CALSCALE:GREGORIAN
METHOD:PUBLISH
X-ORIGINAL-URL:https://lawrieandsymington.com
X-WR-CALDESC:Sales for Lawrie &amp; Symington
REFRESH-INTERVAL;VALUE=DURATION:PT1H
X-Robots-Tag:noindex
X-PUBLISHED-TTL:PT1H
BEGIN:VTIMEZONE
TZID:Europe/London
BEGIN:DAYLIGHT
TZOFFSETFROM:+0000
TZOFFSETTO:+0100
TZNAME:BST
DTSTART:20290325T010000
END:DAYLIGHT
BEGIN:STANDARD
TZOFFSETFROM:+0100
TZOFFSETTO:+0000
TZNAME:GMT
DTSTART:20291028T010000
END:STANDARD
BEGIN:DAYLIGHT
TZOFFSETFROM:+0000
TZOFFSETTO:+0100
TZNAME:BST
DTSTART:20300331T010000
END:DAYLIGHT
BEGIN:STANDARD
TZOFFSETFROM:+0100
TZOFFSETTO:+0000
TZNAME:GMT
DTSTART:20301027T010000
END:STANDARD
BEGIN:DAYLIGHT
TZOFFSETFROM:+0000
TZOFFSETTO:+0100
TZNAME:BST
DTSTART:20310330T010000
END:DAYLIGHT
BEGIN:STANDARD
TZOFFSETFROM:+0100
TZOFFSETTO:+0000
TZNAME:GMT
DTSTART:20311026T010000
END:STANDARD
END:VTIMEZONE
BEGIN:VEVENT
DTSTART;VALUE=DATE:20300223
DTEND;VALUE=DATE:20300224
DTSTAMP:20260423T064156
CREATED:20251217T155411Z
LAST-MODIFIED:20260227T133046Z
UID:10004243-1898035200-1898121599@lawrieandsymington.com
SUMMARY:Show & Sale of In Lamb Blackface Females & Empty Ewe Hoggs
DESCRIPTION:
URL:https://lawrieandsymington.com/sale/show-sale-of-in-lamb-blackface-females-empty-ewe-hoggs-on-behalf-of-blackface-sheep-breeders-association/2030-02-23/
LOCATION:Lanark Mart\, Lanark Agricultural Centre\, Hyndford Road\, Lanark\, ML11 9AX\, United Kingdom
CATEGORIES:Annual Sale,Sheep
ATTACH;FMTTYPE=image/png:https://lawrieandsymington.com/wp-content/uploads/2025/12/Banners-for-website-news.png
END:VEVENT
END:VCALENDAR