BEGIN:VCALENDAR
VERSION:2.0
PRODID:-//Lawrie &amp; Symington - ECPv6.15.20//NONSGML v1.0//EN
CALSCALE:GREGORIAN
METHOD:PUBLISH
X-ORIGINAL-URL:https://lawrieandsymington.com
X-WR-CALDESC:Sales for Lawrie &amp; Symington
REFRESH-INTERVAL;VALUE=DURATION:PT1H
X-Robots-Tag:noindex
X-PUBLISHED-TTL:PT1H
BEGIN:VTIMEZONE
TZID:Europe/London
BEGIN:DAYLIGHT
TZOFFSETFROM:+0000
TZOFFSETTO:+0100
TZNAME:BST
DTSTART:20260329T010000
END:DAYLIGHT
BEGIN:STANDARD
TZOFFSETFROM:+0100
TZOFFSETTO:+0000
TZNAME:GMT
DTSTART:20261025T010000
END:STANDARD
BEGIN:DAYLIGHT
TZOFFSETFROM:+0000
TZOFFSETTO:+0100
TZNAME:BST
DTSTART:20270328T010000
END:DAYLIGHT
BEGIN:STANDARD
TZOFFSETFROM:+0100
TZOFFSETTO:+0000
TZNAME:GMT
DTSTART:20271031T010000
END:STANDARD
BEGIN:DAYLIGHT
TZOFFSETFROM:+0000
TZOFFSETTO:+0100
TZNAME:BST
DTSTART:20280326T010000
END:DAYLIGHT
BEGIN:STANDARD
TZOFFSETFROM:+0100
TZOFFSETTO:+0000
TZNAME:GMT
DTSTART:20281029T010000
END:STANDARD
END:VTIMEZONE
BEGIN:VEVENT
DTSTART;TZID=Europe/London:20270903T090000
DTEND;TZID=Europe/London:20270903T170000
DTSTAMP:20260421T140245
CREATED:20260115T160229Z
LAST-MODIFIED:20260115T160229Z
UID:10004625-1819962000-1819990800@lawrieandsymington.com
SUMMARY:Show & Sale Castlemilk Moorit
DESCRIPTION:
URL:https://lawrieandsymington.com/sale/show-sale-castlemilk-moorit/2027-09-03/
LOCATION:Lanark Mart\, Lanark Agricultural Centre\, Hyndford Road\, Lanark\, ML11 9AX\, United Kingdom
CATEGORIES:Annual Sale,Pedigree Sheep,Sheep
ATTACH;FMTTYPE=image/png:https://lawrieandsymington.com/wp-content/uploads/2026/01/Castlemilk-Moorit.png
END:VEVENT
BEGIN:VEVENT
DTSTART;TZID=Europe/London:20270903T090000
DTEND;TZID=Europe/London:20270903T170000
DTSTAMP:20260421T140245
CREATED:20260115T160323Z
LAST-MODIFIED:20260115T160323Z
UID:10004630-1819962000-1819990800@lawrieandsymington.com
SUMMARY:Show & Sale Dartmoor Sheep
DESCRIPTION:
URL:https://lawrieandsymington.com/sale/show-sale-dartmoor-sheep/2027-09-03/
LOCATION:Lanark Mart\, Lanark Agricultural Centre\, Hyndford Road\, Lanark\, ML11 9AX\, United Kingdom
CATEGORIES:Annual Sale,Pedigree Sheep,Sheep
ATTACH;FMTTYPE=image/png:https://lawrieandsymington.com/wp-content/uploads/2026/01/Dartmoor.png
END:VEVENT
BEGIN:VEVENT
DTSTART;TZID=Europe/London:20270903T090000
DTEND;TZID=Europe/London:20270903T170000
DTSTAMP:20260421T140245
CREATED:20260115T160420Z
LAST-MODIFIED:20260115T160420Z
UID:10004635-1819962000-1819990800@lawrieandsymington.com
SUMMARY:Show & Sale Hebridean Sheep
DESCRIPTION:
URL:https://lawrieandsymington.com/sale/show-sale-hebridean-sheep/2027-09-03/
LOCATION:Lanark Mart\, Lanark Agricultural Centre\, Hyndford Road\, Lanark\, ML11 9AX\, United Kingdom
CATEGORIES:Annual Sale,Pedigree Sheep,Sheep
ATTACH;FMTTYPE=image/png:https://lawrieandsymington.com/wp-content/uploads/2026/01/Hebridean.png
END:VEVENT
BEGIN:VEVENT
DTSTART;TZID=Europe/London:20270903T090000
DTEND;TZID=Europe/London:20270903T170000
DTSTAMP:20260421T140245
CREATED:20260115T160518Z
LAST-MODIFIED:20260115T160518Z
UID:10004640-1819962000-1819990800@lawrieandsymington.com
SUMMARY:Show & Sale Shetland Sheep
DESCRIPTION:
URL:https://lawrieandsymington.com/sale/show-sale-shetland-sheep/2027-09-03/
LOCATION:Lanark Mart\, Lanark Agricultural Centre\, Hyndford Road\, Lanark\, ML11 9AX\, United Kingdom
CATEGORIES:Annual Sale,Pedigree Sheep,Sheep
ATTACH;FMTTYPE=image/png:https://lawrieandsymington.com/wp-content/uploads/2026/01/Shetland-Sheep.png
END:VEVENT
BEGIN:VEVENT
DTSTART;TZID=Europe/London:20270903T100000
DTEND;TZID=Europe/London:20270903T170000
DTSTAMP:20260421T140245
CREATED:20260115T155941Z
LAST-MODIFIED:20260115T155941Z
UID:10004620-1819965600-1819990800@lawrieandsymington.com
SUMMARY:Rare & Minority Breeds Sale
DESCRIPTION:
URL:https://lawrieandsymington.com/sale/rare-minority-breeds-sale/2027-09-03/
LOCATION:Lanark Mart\, Lanark Agricultural Centre\, Hyndford Road\, Lanark\, ML11 9AX\, United Kingdom
CATEGORIES:Annual Sale,Rare Breeds,Sheep
ATTACH;FMTTYPE=image/png:https://lawrieandsymington.com/wp-content/uploads/2026/01/Rare-Breed.png
END:VEVENT
END:VCALENDAR